BEGIN:VCALENDAR
VERSION:2.0
PRODID:-//The Glendower Group - ECPv6.11.0.1//NONSGML v1.0//EN
CALSCALE:GREGORIAN
METHOD:PUBLISH
X-WR-CALNAME:The Glendower Group
X-ORIGINAL-URL:http://ggtraining.vitasys.com
X-WR-CALDESC:Events for The Glendower Group
REFRESH-INTERVAL;VALUE=DURATION:PT1H
X-Robots-Tag:noindex
X-PUBLISHED-TTL:PT1H
BEGIN:VTIMEZONE
TZID:America/New_York
BEGIN:DAYLIGHT
TZOFFSETFROM:-0500
TZOFFSETTO:-0400
TZNAME:EDT
DTSTART:20250309T070000
END:DAYLIGHT
BEGIN:STANDARD
TZOFFSETFROM:-0400
TZOFFSETTO:-0500
TZNAME:EST
DTSTART:20251102T060000
END:STANDARD
END:VTIMEZONE
BEGIN:VEVENT
DTSTART;TZID=America/New_York:20250827T173000
DTEND;TZID=America/New_York:20250827T200000
DTSTAMP:20260424T034744
CREATED:20250424T195506Z
LAST-MODIFIED:20250723T155414Z
UID:6581-1756315800-1756324800@ggtraining.vitasys.com
SUMMARY:Partnering for Progress: Landlord Incentives & Housing Solutions
DESCRIPTION:Click for a downloadable PDF \nCalling All Landlords! \nJoin us for an Informational Session on the Expanded Choice Program. \nA new opportunity to fill your units and support housing stability in Connecticut. \nDiscover how you can:\n✔️ Rent your units\n✔️ Receive on-time\, direct rental assistance payments\n✔️ Get dedicated support and resources as a Landlord partner \nDon’t miss this chance to learn how the Expanded Choice Program benefits landlords like you! \nRSVP Below!
URL:http://ggtraining.vitasys.com/event/partnering-for-progress-landlord-incentives-housing-solutions/
LOCATION:Mill River Community Room\, 657 Grand Ave\, New Haven\, CT\, 06513\, United States
CATEGORIES:Landlord
END:VEVENT
END:VCALENDAR