BEGIN:VCALENDAR
VERSION:2.0
PRODID:-//The Glendower Group - ECPv6.11.0.1//NONSGML v1.0//EN
CALSCALE:GREGORIAN
METHOD:PUBLISH
X-ORIGINAL-URL:http://ggtraining.vitasys.com
X-WR-CALDESC:Events for The Glendower Group
REFRESH-INTERVAL;VALUE=DURATION:PT1H
X-Robots-Tag:noindex
X-PUBLISHED-TTL:PT1H
BEGIN:VTIMEZONE
TZID:America/New_York
BEGIN:DAYLIGHT
TZOFFSETFROM:-0500
TZOFFSETTO:-0400
TZNAME:EDT
DTSTART:20260308T070000
END:DAYLIGHT
BEGIN:STANDARD
TZOFFSETFROM:-0400
TZOFFSETTO:-0500
TZNAME:EST
DTSTART:20261101T060000
END:STANDARD
END:VTIMEZONE
BEGIN:VEVENT
DTSTART;TZID=America/New_York:20260115T173000
DTEND;TZID=America/New_York:20260115T190000
DTSTAMP:20260423T130643
CREATED:20251028T162120Z
LAST-MODIFIED:20251208T194506Z
UID:6711-1768498200-1768503600@ggtraining.vitasys.com
SUMMARY:Partnering for Progress: Investment Opportunities & Community Returns
DESCRIPTION:Calling All Investors & Partners! \nJoin us for an exclusive Investor Meeting introducing our current and upcoming affordable housing development pipeline – projects designed to deliver both strong financial performance and measurable community impact.  \nDiscover how Glendower’s proven development model\, strategic public-private partnerships\, and multi-million-dollar portfolio create unique opportunities for strong\, stable investment performance for investors\, syndicators and lending partners. \nDiscover how you can:\n✔️From equity participation to financing and syndication\, learn how your capital can drive both return and measurable community benefit\n✔️ Explore projects with secure funding layers and stable performance projections\n✔️ Explore opportunities with competitive returns backed by mission-driven development\nAnd so much more! \nDon’t miss this chance to learn how we can benefit investors like you! \nRSVP Below!
URL:http://ggtraining.vitasys.com/event/partnering-for-progress-investment-opportunities-community-returns/
LOCATION:The Atrium at Union Square\, 50 Union Ave\, New Haven\, United States
CATEGORIES:Investors
END:VEVENT
END:VCALENDAR